BEGIN:VCALENDAR
VERSION:2.0
PRODID:-//Sprankelend aan de Slag - ECPv6.15.18//NONSGML v1.0//EN
CALSCALE:GREGORIAN
METHOD:PUBLISH
X-WR-CALNAME:Sprankelend aan de Slag
X-ORIGINAL-URL:https://sprankelendaandeslag.nl
X-WR-CALDESC:Evenementen voor Sprankelend aan de Slag
REFRESH-INTERVAL;VALUE=DURATION:PT1H
X-Robots-Tag:noindex
X-PUBLISHED-TTL:PT1H
BEGIN:VTIMEZONE
TZID:UTC
BEGIN:STANDARD
TZOFFSETFROM:+0000
TZOFFSETTO:+0000
TZNAME:UTC
DTSTART:20250101T000000
END:STANDARD
END:VTIMEZONE
BEGIN:VEVENT
DTSTART;TZID=UTC:20260506T190000
DTEND;TZID=UTC:20260506T223000
DTSTAMP:20260424T090114
CREATED:20250224T074331Z
LAST-MODIFIED:20260419T093114Z
UID:10000069-1778094000-1778106600@sprankelendaandeslag.nl
SUMMARY:Opstellingsavond-deelnemer
DESCRIPTION:Je hebt gehoord van familieopstellingen\, vindt het een boeiende materie. Wie weet wil je zelf ooit ook wel een vraag inbrengen… voor nu vind je het fijn het eens te ervaren. Wat houdt zo’n avond in\, hoe werkt het met vragen inbrengen\, wie zijn er allemaal aanwezig en hoe is de begeleiding? Allemaal vragen die je kan beantwoorden door aanwezig te zijn. Je mag ook gevraagd worden als representant. En als dat niet goed voelt\, dan zeg je nee. Er is geen verplichting daartoe. Ik raad mijn klanten met een coachtraject ook altijd aan eerst een avond bij te wonen en daarna pas een vraag in te brengen. \nMeer weten over de “rol” van deelnemer? Bekijk dan eens dit filmpje waarin ik het uitleg.
URL:https://sprankelendaandeslag.nl/event/opstellingsavond-deelnemer-4/2026-05-06/
LOCATION:Houten Huys\, Galderseweg 3\, Galder\, Nederland\, 4855AD\, Netherlands
CATEGORIES:Familieopstellingen
ATTACH;FMTTYPE=image/webp:https://sprankelendaandeslag.nl/wp-content/uploads/2025/02/familieopstelling-rotterdam.webp
ORGANIZER;CN="Jacqueline van den Bergh":MAILTO:jacqueline@sprankelendaandeslag.nl
END:VEVENT
BEGIN:VEVENT
DTSTART;TZID=UTC:20260604T130000
DTEND;TZID=UTC:20260604T170000
DTSTAMP:20260424T090114
CREATED:20260312T105420Z
LAST-MODIFIED:20260410T145953Z
UID:10000076-1780578000-1780592400@sprankelendaandeslag.nl
SUMMARY:Opstellingsavond-deelnemer
DESCRIPTION:Je hebt gehoord van familieopstellingen\, vindt het een boeiende materie. Wie weet wil je zelf ooit ook wel een vraag inbrengen… voor nu vind je het fijn het eens te ervaren. Wat houdt zo’n avond in\, hoe werkt het met vragen inbrengen\, wie zijn er allemaal aanwezig en hoe is de begeleiding? Allemaal vragen die je kan beantwoorden door aanwezig te zijn. Je mag ook gevraagd worden als representant. En als dat niet goed voelt\, dan zeg je nee. Er is geen verplichting daartoe. Ik raad mijn klanten met een coachtraject ook altijd aan eerst een avond bij te wonen en daarna pas een vraag in te brengen. \nMeer weten over de “rol” van deelnemer? Bekijk dan eens dit filmpje waarin ik het uitleg.
URL:https://sprankelendaandeslag.nl/event/opstellingsavond-deelnemer-4-2/2026-06-04/
LOCATION:Houten Huys\, Galderseweg 3\, Galder\, Nederland\, 4855AD\, Netherlands
CATEGORIES:Familieopstellingen
ATTACH;FMTTYPE=image/webp:https://sprankelendaandeslag.nl/wp-content/uploads/2025/02/familieopstelling-rotterdam.webp
ORGANIZER;CN="Jacqueline van den Bergh":MAILTO:jacqueline@sprankelendaandeslag.nl
END:VEVENT
END:VCALENDAR